BEGIN:VCALENDAR
VERSION:2.0
PRODID:-//Great Lakes Chamber Music Festival - ECPv6.15.20//NONSGML v1.0//EN
CALSCALE:GREGORIAN
METHOD:PUBLISH
X-ORIGINAL-URL:https://greatlakeschambermusic.org
X-WR-CALDESC:Events for Great Lakes Chamber Music Festival
REFRESH-INTERVAL;VALUE=DURATION:PT1H
X-Robots-Tag:noindex
X-PUBLISHED-TTL:PT1H
BEGIN:VTIMEZONE
TZID:America/Detroit
BEGIN:DAYLIGHT
TZOFFSETFROM:-0500
TZOFFSETTO:-0400
TZNAME:EDT
DTSTART:20250309T070000
END:DAYLIGHT
BEGIN:STANDARD
TZOFFSETFROM:-0400
TZOFFSETTO:-0500
TZNAME:EST
DTSTART:20251102T060000
END:STANDARD
BEGIN:DAYLIGHT
TZOFFSETFROM:-0500
TZOFFSETTO:-0400
TZNAME:EDT
DTSTART:20260308T070000
END:DAYLIGHT
BEGIN:STANDARD
TZOFFSETFROM:-0400
TZOFFSETTO:-0500
TZNAME:EST
DTSTART:20261101T060000
END:STANDARD
BEGIN:DAYLIGHT
TZOFFSETFROM:-0500
TZOFFSETTO:-0400
TZNAME:EDT
DTSTART:20270314T070000
END:DAYLIGHT
BEGIN:STANDARD
TZOFFSETFROM:-0400
TZOFFSETTO:-0500
TZNAME:EST
DTSTART:20271107T060000
END:STANDARD
END:VTIMEZONE
BEGIN:VEVENT
DTSTART;TZID=America/Detroit:20260625T190000
DTEND;TZID=America/Detroit:20260625T190000
DTSTAMP:20260422T130723
CREATED:20260316T135013Z
LAST-MODIFIED:20260316T135013Z
UID:10000058-1782414000-1782414000@greatlakeschambermusic.org
SUMMARY:Rhythms of Place
DESCRIPTION:A cross-border collaboration that extends the Festival’s reach and celebrates shared cultural exchange.
URL:https://greatlakeschambermusic.org/event/rhythms-of-place/
LOCATION:The Capitol Theatre Windsor\, 121 University Ave W\, Windsor\, Ontario\, N9A 5P4\, Canada
CATEGORIES:Partner Series
ATTACH;FMTTYPE=image/png:https://greatlakeschambermusic.org/wp-content/uploads/2026/03/Rhythms-of-Place-1.png
GEO:42.3168714;-83.0400814
X-APPLE-STRUCTURED-LOCATION;VALUE=URI;X-ADDRESS=The Capitol Theatre Windsor 121 University Ave W Windsor Ontario N9A 5P4 Canada;X-APPLE-RADIUS=500;X-TITLE=121 University Ave W:geo:-83.0400814,42.3168714
END:VEVENT
END:VCALENDAR