BEGIN:VCALENDAR
VERSION:2.0
PRODID:-//Great Lakes Chamber Music Festival - ECPv6.15.20//NONSGML v1.0//EN
CALSCALE:GREGORIAN
METHOD:PUBLISH
X-WR-CALNAME:Great Lakes Chamber Music Festival
X-ORIGINAL-URL:https://greatlakeschambermusic.org
X-WR-CALDESC:Events for Great Lakes Chamber Music Festival
REFRESH-INTERVAL;VALUE=DURATION:PT1H
X-Robots-Tag:noindex
X-PUBLISHED-TTL:PT1H
BEGIN:VTIMEZONE
TZID:America/Detroit
BEGIN:DAYLIGHT
TZOFFSETFROM:-0500
TZOFFSETTO:-0400
TZNAME:EDT
DTSTART:20250309T070000
END:DAYLIGHT
BEGIN:STANDARD
TZOFFSETFROM:-0400
TZOFFSETTO:-0500
TZNAME:EST
DTSTART:20251102T060000
END:STANDARD
BEGIN:DAYLIGHT
TZOFFSETFROM:-0500
TZOFFSETTO:-0400
TZNAME:EDT
DTSTART:20260308T070000
END:DAYLIGHT
BEGIN:STANDARD
TZOFFSETFROM:-0400
TZOFFSETTO:-0500
TZNAME:EST
DTSTART:20261101T060000
END:STANDARD
BEGIN:DAYLIGHT
TZOFFSETFROM:-0500
TZOFFSETTO:-0400
TZNAME:EDT
DTSTART:20270314T070000
END:DAYLIGHT
BEGIN:STANDARD
TZOFFSETFROM:-0400
TZOFFSETTO:-0500
TZNAME:EST
DTSTART:20271107T060000
END:STANDARD
END:VTIMEZONE
BEGIN:VEVENT
DTSTART;TZID=America/Detroit:20260509T180000
DTEND;TZID=America/Detroit:20260509T180000
DTSTAMP:20260422T151749
CREATED:20260323T214409Z
LAST-MODIFIED:20260420T152446Z
UID:10000059-1778349600-1778349600@greatlakeschambermusic.org
SUMMARY:Legacy Gala
DESCRIPTION:As we celebrate Paul’s leadership and artistic vision\, we also reflect on the enduring legacy of the Festival itself. For more than three decades\, the Great Lakes Chamber Music Festival has enriched our region through artistic excellence. collaboration\, and a profound commitment to the art of chamber music. \nPaul’s twelve-year tenure has helped shape that legacy-leaving an indelible mark on our stage\, our artists\, and our community. \nWe hope you will join us for this memorable evening of music\, gratitude\, and celebration. \nIf you cannot attend the Gala and wish to make a contribution to the Festival\, please click here.
URL:https://greatlakeschambermusic.org/event/legacy-gala/
LOCATION:Next Step Studio & Gallery\, 530 Hilton Rd\, Ferndale\, MI\, 48220\, United States
CATEGORIES:Special Event
ATTACH;FMTTYPE=image/jpeg:https://greatlakeschambermusic.org/wp-content/uploads/2026/03/Invite.jpg
END:VEVENT
BEGIN:VEVENT
DTSTART;TZID=America/Detroit:20260614T210000
DTEND;TZID=America/Detroit:20260614T210000
DTSTAMP:20260422T151749
CREATED:20260316T134010Z
LAST-MODIFIED:20260408T144532Z
UID:10000056-1781470800-1781470800@greatlakeschambermusic.org
SUMMARY:Opening Night Reception
DESCRIPTION:Following the Opening Night concert\, join the Festival for a celebratory reception at Seligman.\nSuggested donation: $50 \nTickets for Opening Night: Signatures in Sound are sold separately. Tickets can be purchased HERE.
URL:https://greatlakeschambermusic.org/event/opening-night-reception/
LOCATION:Seligman Performing Arts Center\, 22305 West Thirteen Mile Rd.\, Beverly Hills\, MI\, 48025\, United States
CATEGORIES:Special Event
ATTACH;FMTTYPE=image/png:https://greatlakeschambermusic.org/wp-content/uploads/2026/03/Opening-Night-Reception.png
GEO:42.5136054;-83.2653191
X-APPLE-STRUCTURED-LOCATION;VALUE=URI;X-ADDRESS=Seligman Performing Arts Center 22305 West Thirteen Mile Rd. Beverly Hills MI 48025 United States;X-APPLE-RADIUS=500;X-TITLE=22305 West Thirteen Mile Rd.:geo:-83.2653191,42.5136054
END:VEVENT
BEGIN:VEVENT
DTSTART;TZID=America/Detroit:20260627T210000
DTEND;TZID=America/Detroit:20260627T210000
DTSTAMP:20260422T151749
CREATED:20260316T134244Z
LAST-MODIFIED:20260406T213419Z
UID:10000057-1782594000-1782594000@greatlakeschambermusic.org
SUMMARY:Closing Night Encore!
DESCRIPTION:Following the Closing Night concert\, join the Festival as we honor Paul’s artistic leadership and toast the future of the Festival.
URL:https://greatlakeschambermusic.org/event/closing-night-encore/
LOCATION:The Kingsley Bloomfield Hills\, 39475 Woodward Ave\, Bloomfield Hills\, MI\, 48304\, United States
CATEGORIES:Special Event
ATTACH;FMTTYPE=image/png:https://greatlakeschambermusic.org/wp-content/uploads/2026/03/Closing-Night-Encore-1.png
END:VEVENT
END:VCALENDAR