BEGIN:VCALENDAR
VERSION:2.0
PRODID:-//Great Lakes Chamber Music Festival - ECPv6.15.20//NONSGML v1.0//EN
CALSCALE:GREGORIAN
METHOD:PUBLISH
X-WR-CALNAME:Great Lakes Chamber Music Festival
X-ORIGINAL-URL:https://greatlakeschambermusic.org
X-WR-CALDESC:Events for Great Lakes Chamber Music Festival
REFRESH-INTERVAL;VALUE=DURATION:PT1H
X-Robots-Tag:noindex
X-PUBLISHED-TTL:PT1H
BEGIN:VTIMEZONE
TZID:America/Detroit
BEGIN:DAYLIGHT
TZOFFSETFROM:-0500
TZOFFSETTO:-0400
TZNAME:EDT
DTSTART:20250309T070000
END:DAYLIGHT
BEGIN:STANDARD
TZOFFSETFROM:-0400
TZOFFSETTO:-0500
TZNAME:EST
DTSTART:20251102T060000
END:STANDARD
BEGIN:DAYLIGHT
TZOFFSETFROM:-0500
TZOFFSETTO:-0400
TZNAME:EDT
DTSTART:20260308T070000
END:DAYLIGHT
BEGIN:STANDARD
TZOFFSETFROM:-0400
TZOFFSETTO:-0500
TZNAME:EST
DTSTART:20261101T060000
END:STANDARD
BEGIN:DAYLIGHT
TZOFFSETFROM:-0500
TZOFFSETTO:-0400
TZNAME:EDT
DTSTART:20270314T070000
END:DAYLIGHT
BEGIN:STANDARD
TZOFFSETFROM:-0400
TZOFFSETTO:-0500
TZNAME:EST
DTSTART:20271107T060000
END:STANDARD
END:VTIMEZONE
BEGIN:VEVENT
DTSTART;TZID=America/Detroit:20260619T193000
DTEND;TZID=America/Detroit:20260619T213000
DTSTAMP:20260422T151457
CREATED:20260305T182423Z
LAST-MODIFIED:20260313T205006Z
UID:10000043-1781897400-1781904600@greatlakeschambermusic.org
SUMMARY:Measured Momentum
DESCRIPTION:A dynamic mix of rhythmic modernism\, classical refinement\, and bold contemporary storytelling.
URL:https://greatlakeschambermusic.org/event/measuredmomentum/
LOCATION:Kerrytown Concert House\, 415 N 4th Ave\, Ann Arbor\, MI\, 48104\, United States
CATEGORIES:Partner Series
ATTACH;FMTTYPE=image/png:https://greatlakeschambermusic.org/wp-content/uploads/2026/03/Measured-Momentum-1.png
GEO:42.2845145;-83.747359
X-APPLE-STRUCTURED-LOCATION;VALUE=URI;X-ADDRESS=Kerrytown Concert House 415 N 4th Ave Ann Arbor MI 48104 United States;X-APPLE-RADIUS=500;X-TITLE=415 N 4th Ave:geo:-83.747359,42.2845145
END:VEVENT
BEGIN:VEVENT
DTSTART;TZID=America/Detroit:20260621T140000
DTEND;TZID=America/Detroit:20260621T160000
DTSTAMP:20260422T151457
CREATED:20260305T181943Z
LAST-MODIFIED:20260313T202334Z
UID:10000045-1782050400-1782057600@greatlakeschambermusic.org
SUMMARY:Startin' Sumthin'
DESCRIPTION:A vibrant and rhythm-forward program blending contemporary color\, jazz-inflected spirit\, and Brahmsian drama. \nConcert takes place in Rivera Court at the DIA. \n*Event is free with museum admission. Visit dia.org or call 313-833-7900 for details.
URL:https://greatlakeschambermusic.org/event/startinsumthin/
LOCATION:Detroit Institute of Arts\, 5200 Woodward Avenue\, Detroit\, MI\, 48202\, United States
CATEGORIES:Partner Series
ATTACH;FMTTYPE=image/png:https://greatlakeschambermusic.org/wp-content/uploads/2026/03/Startin-Sumthin.png
GEO:42.3594422;-83.0643655
X-APPLE-STRUCTURED-LOCATION;VALUE=URI;X-ADDRESS=Detroit Institute of Arts 5200 Woodward Avenue Detroit MI 48202 United States;X-APPLE-RADIUS=500;X-TITLE=5200 Woodward Avenue:geo:-83.0643655,42.3594422
END:VEVENT
BEGIN:VEVENT
DTSTART;TZID=America/Detroit:20260625T190000
DTEND;TZID=America/Detroit:20260625T190000
DTSTAMP:20260422T151457
CREATED:20260316T135013Z
LAST-MODIFIED:20260316T135013Z
UID:10000058-1782414000-1782414000@greatlakeschambermusic.org
SUMMARY:Rhythms of Place
DESCRIPTION:A cross-border collaboration that extends the Festival’s reach and celebrates shared cultural exchange.
URL:https://greatlakeschambermusic.org/event/rhythms-of-place/
LOCATION:The Capitol Theatre Windsor\, 121 University Ave W\, Windsor\, Ontario\, N9A 5P4\, Canada
CATEGORIES:Partner Series
ATTACH;FMTTYPE=image/png:https://greatlakeschambermusic.org/wp-content/uploads/2026/03/Rhythms-of-Place-1.png
GEO:42.3168714;-83.0400814
X-APPLE-STRUCTURED-LOCATION;VALUE=URI;X-ADDRESS=The Capitol Theatre Windsor 121 University Ave W Windsor Ontario N9A 5P4 Canada;X-APPLE-RADIUS=500;X-TITLE=121 University Ave W:geo:-83.0400814,42.3168714
END:VEVENT
BEGIN:VEVENT
DTSTART;TZID=America/Detroit:20260626T190000
DTEND;TZID=America/Detroit:20260626T210000
DTSTAMP:20260422T151457
CREATED:20260305T180719Z
LAST-MODIFIED:20260313T202236Z
UID:10000053-1782500400-1782507600@greatlakeschambermusic.org
SUMMARY:Friday Night Lights
DESCRIPTION:An energetic evening of contemporary voices and vibrant ensemble works\, full of rhythmic vitality and bold color. \n*Event is free with museum admission. Visit dia.org or call 313-833-7900 for details.
URL:https://greatlakeschambermusic.org/event/fridaynightlights/
LOCATION:Detroit Institute of Arts\, 5200 Woodward Avenue\, Detroit\, MI\, 48202\, United States
CATEGORIES:Partner Series
ATTACH;FMTTYPE=image/png:https://greatlakeschambermusic.org/wp-content/uploads/2026/03/Friday-Night-Lights.png
GEO:42.3594422;-83.0643655
X-APPLE-STRUCTURED-LOCATION;VALUE=URI;X-ADDRESS=Detroit Institute of Arts 5200 Woodward Avenue Detroit MI 48202 United States;X-APPLE-RADIUS=500;X-TITLE=5200 Woodward Avenue:geo:-83.0643655,42.3594422
END:VEVENT
BEGIN:VEVENT
DTSTART;TZID=America/Detroit:20260626T193000
DTEND;TZID=America/Detroit:20260626T213000
DTSTAMP:20260422T151457
CREATED:20260305T180238Z
LAST-MODIFIED:20260313T201758Z
UID:10000052-1782502200-1782509400@greatlakeschambermusic.org
SUMMARY:Modulating Moods
DESCRIPTION:An intimate and expressive program showcasing lyrical clarinet lines\, striking solo moments\, and deeply emotional chamber textures.
URL:https://greatlakeschambermusic.org/event/modulatingmoods/
LOCATION:Kerrytown Concert House\, 415 N 4th Ave\, Ann Arbor\, MI\, 48104\, United States
CATEGORIES:Partner Series
ATTACH;FMTTYPE=image/png:https://greatlakeschambermusic.org/wp-content/uploads/2026/03/Modulating-Moods.png
GEO:42.2845145;-83.747359
X-APPLE-STRUCTURED-LOCATION;VALUE=URI;X-ADDRESS=Kerrytown Concert House 415 N 4th Ave Ann Arbor MI 48104 United States;X-APPLE-RADIUS=500;X-TITLE=415 N 4th Ave:geo:-83.747359,42.2845145
END:VEVENT
END:VCALENDAR